BEGIN:VCALENDAR
VERSION:2.0
PRODID:-//69.163.186.74//NONSGML kigkonsult.se iCalcreator 2.26.9//
CALSCALE:GREGORIAN
METHOD:PUBLISH
X-FROM-URL:https://26d.org/wp
X-WR-TIMEZONE:America/Los_Angeles
BEGIN:VTIMEZONE
TZID:America/Los_Angeles
X-LIC-LOCATION:America/Los_Angeles
BEGIN:STANDARD
DTSTART:20231105T020000
TZOFFSETFROM:-0700
TZOFFSETTO:-0800
RDATE:20241103T020000
TZNAME:PST
END:STANDARD
BEGIN:DAYLIGHT
DTSTART:20240310T020000
TZOFFSETFROM:-0800
TZOFFSETTO:-0700
RDATE:20250309T020000
TZNAME:PDT
END:DAYLIGHT
END:VTIMEZONE
BEGIN:VEVENT
UID:ai1ec-36512@26d.org/wp
DTSTAMP:20231102T213404Z
CATEGORIES;LANGUAGE=en-US:LD26 General Meetings
CONTACT:Tom Slyter\; 26thdemocrats@gmail.org
DESCRIPTION:GENERAL MEETING:\nDate:  Thursday\, August 3\, 2023 \nTime:  6:
 30 p.m.\nLocation: Virtual via Zoom\nThis will be a virtual meeting.   We 
 will be using Zoom\; no downloading is required.  We recommend people join
  using a computer so they can see the speakers live.  However\, you can ju
 st phone in using any phone (cell or landline). \nIf you wish to join the 
 meeting\, please RSVP here with your name and email address and you will b
 e provided instructions for dialing into the meeting. \nRegister for 8/3 z
 oom meeting\nThis will be a Zoom meeting to vote on endorsements. Zoom Lin
 k will be sent to you after you RSVP.\nMeeting Agenda:\n6:30 – 6:35 PM: Op
 ening\nCall to order\, pledge of allegiance\, land acknowledgement \nRecog
 nition of elected officials and first-time guests  \n6:35 – 7:00 PM: Progr
 am    \nCall for vote on Endorsements/Approvals of Candidates  \n         
 Megan Higgens – South Kitsap School District Director District 2\n        
  Jane Rebelowski – Bremerton City Council District 4\n         Marwan Came
 ron – Bremerton City Council District 4\n7:00 – 7:30 PM:  Business Meeting
   \n\n   Approval of July General Meeting Minutes \n   Treasurer’s Report 
 \n   Report on Fundraiser\n   Good of the Order \n   Adjournment  
DTSTART;TZID=America/Los_Angeles:20230803T183000
DTEND;TZID=America/Los_Angeles:20230803T203000
LOCATION:Zoom Meeting
SEQUENCE:0
SUMMARY:26th Legislative District General Membership Meeting
URL:https://26d.org/wp/event/26th-legislative-district-general-membership-m
 eeting/
X-COST-TYPE:free
X-ALT-DESC;FMTTYPE=text/html:<!DOCTYPE HTML PUBLIC '-//W3C//DTD HTML 3.2//E
 N'>\\n<HTML>\\n<HEAD>\\n<TITLE></TITLE>\\n</HEAD>\\n<BODY><div><strong>GEN
 ERAL MEETING:</strong></div>\n<p><strong>Date:  Thursday\, August 3\, 2023
  </strong><br />\n<strong>Time:  6:30 p.m.<br />\nLocation: Virtual via Zo
 om</strong></p>\n<p><span style='font-weight: 400\;'>This will be a virtua
 l meeting.   We will be using Zoom\; no downloading is required.  We recom
 mend people join using a computer so they can see the speakers live.  Howe
 ver\, you can just phone in using any phone (cell or landline). </span></p
 >\n<p><span style='font-weight: 400\;'>If you wish to join the meeting\, p
 lease <a href='26thdemocrats@gmail.com'>RSVP here</a> with your name and e
 mail address and you will be provided instructions for dialing into the me
 eting. </span></p>\n<p><a href='26thdemocrats@gmail.com'><strong>Register 
 for 8/3 zoom meeting</strong></a></p>\n<p><span style='font-weight: 400\;'
 >This will be a Zoom meeting to vote on endorsements. </span><span style='
 font-weight: 400\;'>Zoom Link will be sent to you after you RSVP.</span></
 p>\n<p><strong>Meeting Agenda:</strong></p>\n<p><strong>6:30 – 6:35 PM: Op
 ening</strong></p>\n<p><strong>Call to order\, pledge of allegiance\, land
  acknowledgement </strong></p>\n<p><strong>Recognition of elected official
 s and first-time guests  </strong></p>\n<p><strong>6:35 – 7:00 PM: Program
     </strong></p>\n<p><strong>Call for vote on Endorsements/Approvals of C
 andidates  </strong></p>\n<p><span style='font-weight: 400\;'>         Meg
 an Higgens – South Kitsap School District Director District 2</span></p>\n
 <p><span style='font-weight: 400\;'>         Jane Rebelowski – Bremerton C
 ity Council District 4</span></p>\n<p><span style='font-weight: 400\;'>   
       Marwan Cameron – Bremerton City Council District 4</span></p>\n<p><s
 trong>7:00 – 7:30 PM:  Business Meeting  </strong></p>\n<ol start='4'>\n<l
 i><span style='font-weight: 400\;'>   Approval of July General Meeting Min
 utes </span></li>\n<li><span style='font-weight: 400\;'>   Treasurer’s Rep
 ort </span></li>\n<li><span style='font-weight: 400\;'>   Report on Fundra
 iser</span></li>\n<li><span style='font-weight: 400\;'>   Good of the Orde
 r </span></li>\n<li><span style='font-weight: 400\;'>   Adjournment  </spa
 n></li>\n</ol>\n</BODY></HTML>
END:VEVENT
BEGIN:VEVENT
UID:ai1ec-36531@26d.org/wp
DTSTAMP:20231102T213404Z
CATEGORIES;LANGUAGE=en-US:LD26 General Meetings
CONTACT:26th LD Chair Tom Slyter\; 26thdemocrats@gmail.org
DESCRIPTION:GENERAL MEETING:\nDate:  Thursday\, October 5\, 2023 \nTime:  6
 :30 p.m.\nLocation: Marvin Williams Center\, Bremerton\nMeeting agenda com
 ing soon…
DTSTART;TZID=America/Los_Angeles:20231005T183000
DTEND;TZID=America/Los_Angeles:20231005T203000
LOCATION:Marvin Williams Recreation Center @ 725 Park Ave\, Bremerton\, WA 
 98337
SEQUENCE:0
SUMMARY:26th Legislative District General Membership Meeting
URL:https://26d.org/wp/event/26th-legislative-district-general-membership-m
 eeting-2/
X-COST-TYPE:free
X-ALT-DESC;FMTTYPE=text/html:<!DOCTYPE HTML PUBLIC '-//W3C//DTD HTML 3.2//E
 N'>\\n<HTML>\\n<HEAD>\\n<TITLE></TITLE>\\n</HEAD>\\n<BODY><div><strong>GEN
 ERAL MEETING:</strong></div>\n<p><strong>Date:  Thursday\, October 5\, 202
 3 </strong><br />\n<strong>Time:  6:30 p.m.<br />\nLocation: Marvin Willia
 ms Center\, Bremerton</strong></p>\n<p>Meeting agenda coming soon…</p>\n</
 BODY></HTML>
END:VEVENT
END:VCALENDAR
