BEGIN:VCALENDAR
VERSION:2.0
PRODID:-//69.163.186.74//NONSGML kigkonsult.se iCalcreator 2.26.9//
CALSCALE:GREGORIAN
METHOD:PUBLISH
X-WR-CALNAME:26th Legislative Democrats
X-WR-CALDESC:Reclaiming Our Future
X-FROM-URL:https://26d.org/wp
X-WR-TIMEZONE:America/Los_Angeles
BEGIN:VTIMEZONE
TZID:America/Los_Angeles
X-LIC-LOCATION:America/Los_Angeles
BEGIN:STANDARD
DTSTART:20231105T020000
TZOFFSETFROM:-0700
TZOFFSETTO:-0800
RDATE:20241103T020000
TZNAME:PST
END:STANDARD
BEGIN:DAYLIGHT
DTSTART:20240310T020000
TZOFFSETFROM:-0800
TZOFFSETTO:-0700
RDATE:20250309T020000
TZNAME:PDT
END:DAYLIGHT
END:VTIMEZONE
BEGIN:VEVENT
UID:ai1ec-36543@26d.org/wp
DTSTAMP:20231102T213422Z
CATEGORIES;LANGUAGE=en-US:Kitsap County Events
CONTACT:
DESCRIPTION:Social time 6:30 pm\, Business Meeting starts at 7:00 pm. For m
 ore information\, visit kitsap23rd.com or send email to chair@kitsap23rd.c
 om
DTSTART;TZID=America/Los_Angeles:20231026T190000
DTEND;TZID=America/Los_Angeles:20231026T210000
RRULE:FREQ=MONTHLY;BYDAY=4TH
SEQUENCE:0
SUMMARY:23rd LD Democrats Monthly Meeting
URL:https://26d.org/wp/event/23rd-ld-democrats-monthly-meeting/
X-COST-TYPE:free
X-ALT-DESC;FMTTYPE=text/html:<!DOCTYPE HTML PUBLIC '-//W3C//DTD HTML 3.2//E
 N'>\\n<HTML>\\n<HEAD>\\n<TITLE></TITLE>\\n</HEAD>\\n<BODY><p><span class='
 event-description'>Social time 6:30 pm\, Business Meeting starts at 7:00 p
 m. For more information\, visit kitsap23rd.com or send email to chair@kits
 ap23r<wbr />d.com</span></p>\n</BODY></HTML>
END:VEVENT
END:VCALENDAR
