BEGIN:VCALENDAR
VERSION:2.0
PRODID:-//69.163.186.74//NONSGML kigkonsult.se iCalcreator 2.26.9//
CALSCALE:GREGORIAN
METHOD:PUBLISH
X-FROM-URL:https://26d.org/wp
X-WR-TIMEZONE:America/Los_Angeles
BEGIN:VTIMEZONE
TZID:America/Los_Angeles
X-LIC-LOCATION:America/Los_Angeles
BEGIN:STANDARD
DTSTART:20231105T020000
TZOFFSETFROM:-0700
TZOFFSETTO:-0800
RDATE:20241103T020000
TZNAME:PST
END:STANDARD
BEGIN:DAYLIGHT
DTSTART:20240310T020000
TZOFFSETFROM:-0800
TZOFFSETTO:-0700
RDATE:20250309T020000
TZNAME:PDT
END:DAYLIGHT
END:VTIMEZONE
BEGIN:VEVENT
UID:ai1ec-36545@26d.org/wp
DTSTAMP:20231102T211535Z
CATEGORIES;LANGUAGE=en-US:Kitsap County Events\,LD26 Special Events\,Pierce
  County Events
CONTACT:
DESCRIPTION:
DTSTART;VALUE=DATE:20231107
DTEND;VALUE=DATE:20231108
SEQUENCE:0
SUMMARY:General Election Day
URL:https://26d.org/wp/event/general-election-day/
X-COST-TYPE:free
END:VEVENT
BEGIN:VEVENT
UID:ai1ec-33547@26d.org/wp
DTSTAMP:20231102T211535Z
CATEGORIES;LANGUAGE=en-US:Pierce County Events
CONTACT:Chair Gina Bua\; http://www.piercecountydems.org/
DESCRIPTION:<p><span class='_4n-j _3cht fsl'>Come at 6:00 p.m. to socialize
  and grab a bite to eat. Each legislative district hosts the meeting meal.
  Suggested donation is $5.</span></p>\n<p>The meeting will begin at 7:00 p
 .m. All PCOs are eligible to vote. All Democrats may join after this meeti
 ng (and ahead of time online at http://www.piercecountydems.org/. The agen
 da includes an opportunity to learn about the standing committees\, and so
 me of the new opportunities the chair would like you to consider.  Everyon
 e will have the chance to select a committee or workgroup!  You will also 
 hear about upcoming events\, fundraisers and LDs news.</p>
DTSTART;TZID=America/Los_Angeles:20201112T190000
GEO:+47.226545;-122.475974
LOCATION:IBEW Local 76  @ 3049 S 36th St\, Tacoma\, Washington 98409
RRULE:FREQ=MONTHLY;BYDAY=2TH
SEQUENCE:0
SUMMARY:Pierce County Democrats
URL:https://26d.org/wp/event/pierce-county-democrats-2/
X-COST-TYPE:free
X-INSTANT-EVENT:1
END:VEVENT
BEGIN:VEVENT
UID:ai1ec-33969@26d.org/wp
DTSTAMP:20231102T211535Z
CATEGORIES;LANGUAGE=en-US:Kitsap County Events\,Pierce County Events
CONTACT:John Kelly\; johnpatkelly@aol.com
DESCRIPTION:<p>Scott Gallacher\, Executive Director of Key Pen Parks moved 
 a lot of dirt to get Gateway Park ready for its Sept. 30 grand opening.  S
 cott will discuss the new park and other work underway by the Parks Distri
 ct\, and</p>\n<p>Rob Manahan\, Peninsula School District Superintendent\, 
 will give us a back-to-school report. (Rand Wilhelmson had agreed to appea
 r\, but had a conflict\, so Mr. Manahan will be our “substitute.”  Superin
 tendent Manahan is shaking up the PSD with the new Facility Committee and 
 other new ideas he has brought to the District.</p>
DTSTART;TZID=America/Los_Angeles:20201116T190000
GEO:+47.338884;-122.746327
LOCATION:Key Center Fire Station 46 @ 8911 Key Peninsula Hwy N\, Lakebay\, 
 WA 98349\, USA
RRULE:FREQ=MONTHLY;BYDAY=3MO
SEQUENCE:0
SUMMARY:Key Peninsula Democrats Social
URL:https://26d.org/wp/event/key-peninsula-democrats-social/
X-COST-TYPE:free
X-INSTANT-EVENT:1
END:VEVENT
BEGIN:VEVENT
UID:ai1ec-36512@26d.org/wp
DTSTAMP:20231102T211535Z
CATEGORIES;LANGUAGE=en-US:LD26 General Meetings
CONTACT:Tom Slyter\; 26thdemocrats@gmail.org
DESCRIPTION:<div><strong>GENERAL MEETING:</strong></div>\n<p><strong>Date: 
  Thursday\, August 3\, 2023 </strong><br />\n<strong>Time:  6:30 p.m.<br /
 >\nLocation: Virtual via Zoom</strong></p>\n<p><span style='font-weight: 4
 00\;'>This will be a virtual meeting.   We will be using Zoom\; no downloa
 ding is required.  We recommend people join using a computer so they can s
 ee the speakers live.  However\, you can just phone in using any phone (ce
 ll or landline). </span></p>\n<p><span style='font-weight: 400\;'>If you w
 ish to join the meeting\, please <a href='26thdemocrats@gmail.com'>RSVP he
 re</a> with your name and email address and you will be provided instructi
 ons for dialing into the meeting. </span></p>\n<p><a href='26thdemocrats@g
 mail.com'><strong>Register for 8/3 zoom meeting</strong></a></p>\n<p><span
  style='font-weight: 400\;'>This will be a Zoom meeting to vote on endorse
 ments. </span><span style='font-weight: 400\;'>Zoom Link will be sent to y
 ou after you RSVP.</span></p>\n<p><strong>Meeting Agenda:</strong></p>\n<p
 ><strong>6:30 – 6:35 PM: Opening</strong></p>\n<p><strong>Call to order\, 
 pledge of allegiance\, land acknowledgement </strong></p>\n<p><strong>Reco
 gnition of elected officials and first-time guests  </strong></p>\n<p><str
 ong>6:35 – 7:00 PM: Program    </strong></p>\n<p><strong>Call for vote on 
 Endorsements/Approvals of Candidates  </strong></p>\n<p><span style='font-
 weight: 400\;'>         Megan Higgens – South Kitsap School District Direc
 tor District 2</span></p>\n<p><span style='font-weight: 400\;'>         Ja
 ne Rebelowski – Bremerton City Council District 4</span></p>\n<p><span sty
 le='font-weight: 400\;'>         Marwan Cameron – Bremerton City Council D
 istrict 4</span></p>\n<p><strong>7:00 – 7:30 PM:  Business Meeting  </stro
 ng></p>\n<ol start='4'>\n<li><span style='font-weight: 400\;'>   Approval 
 of July General Meeting Minutes </span></li>\n<li><span style='font-weight
 : 400\;'>   Treasurer’s Report </span></li>\n<li><span style='font-weight:
  400\;'>   Report on Fundraiser</span></li>\n<li><span style='font-weight:
  400\;'>   Good of the Order </span></li>\n<li><span style='font-weight: 4
 00\;'>   Adjournment  </span></li>\n</ol>
DTSTART;TZID=America/Los_Angeles:20230803T183000
DTEND;TZID=America/Los_Angeles:20230803T203000
LOCATION:Zoom Meeting
SEQUENCE:0
SUMMARY:26th Legislative District General Membership Meeting
URL:https://26d.org/wp/event/26th-legislative-district-general-membership-m
 eeting/
X-COST-TYPE:free
END:VEVENT
BEGIN:VEVENT
UID:ai1ec-36519@26d.org/wp
DTSTAMP:20231102T211535Z
CATEGORIES:
CONTACT:
DESCRIPTION:<p>Join Kitsap County Democrats chair Johanna Baxter (Hannie). 
 We’re available for your questions\, comments\, suggestions-this is your t
 ime to speak with Kitsap County Democrats leadership. For more information
 \, please send email to <a href='mailto:info@kitsapdemocrats.org' target='
 _blank' rel='noopener'>info@kitsapdemocrats.org</a></p>
DTSTART;TZID=America/Los_Angeles:20230804T170000
DTEND;TZID=America/Los_Angeles:20230804T190000
LOCATION:Via Zoom
RRULE:FREQ=WEEKLY;BYDAY=FR;WKST=SU
SEQUENCE:0
SUMMARY:Kitsap Democrats Weekly Office Hours
URL:https://26d.org/wp/event/kitsap-democrats-weekly-office-hours/
X-COST-TYPE:free
END:VEVENT
BEGIN:VEVENT
UID:ai1ec-36523@26d.org/wp
DTSTAMP:20231102T211535Z
CATEGORIES;LANGUAGE=en-US:Kitsap County Events
CONTACT:
DESCRIPTION:<p>Share your politics while you share a pitcher at your local 
 progressive drinking club (we’re on zoom for the time being) An informal g
 athering of like-minded\, left-leaners who may want to trade ideas\, get m
 ore involved\, or just enjoy each other’s company.</p>\n<p>MONTHLY on the 
 second Thursday from 6p to 8p.<br />\nPlease email <a href='mailto:bremert
 on@drinkingliberally.org' target='_blank' rel='noopener'>bremerton@drinkin
 gliberally.org</a> for more information.</p>
DTSTART;TZID=America/Los_Angeles:20230808T180000
DTEND;TZID=America/Los_Angeles:20230808T200000
RRULE:FREQ=MONTHLY;BYDAY=2TU
SEQUENCE:0
SUMMARY:Drinking Liberally-Bremerton
URL:https://26d.org/wp/event/drinking-liberally-bremerton/
X-COST-TYPE:free
END:VEVENT
BEGIN:VEVENT
UID:ai1ec-36522@26d.org/wp
DTSTAMP:20231102T211535Z
CATEGORIES:
CONTACT:
DESCRIPTION:<p>NAACP 1134 General Body Meeting. Unless otherwise noted\, th
 ese meetings occur online via Zoom. Fourth Mondays monthly at 6:30 PM. For
  more information please send email to <a href='mailto:naacpbremerton@yaho
 o.com' target='_blank' rel='noopener'>naacpbremerton@yahoo.com</a></p>
DTSTART;TZID=America/Los_Angeles:20230828T183000
DTEND;TZID=America/Los_Angeles:20230828T203000
LOCATION:OLYMPIC COLLEGE | HSS BUILDING- VIA ZOOM
RRULE:FREQ=MONTHLY;BYDAY=4MO
SEQUENCE:0
SUMMARY:NAACP Bremerton Unit 1134 Monthly Meeting
URL:https://26d.org/wp/event/naacp-bremerton-unit-1134-monthly-meeting/
X-COST-TYPE:free
END:VEVENT
BEGIN:VEVENT
UID:ai1ec-36520@26d.org/wp
DTSTAMP:20231102T211535Z
CATEGORIES:
CONTACT:
DESCRIPTION:<p>Join the Kitsap County Democratic Women for their Book Club 
 meetup. This month’s selection is <a href='https://www.google.com/url?q=ht
 tps://www.npr.org/2020/08/04/898574852/its-more-than-racism-isabel-wilkers
 on-explains-america-s-caste-system&sa=D&source=calendar&usd=2&usg=AOvVaw08
 -VBSQatlWhqMxKkOJM5G' target='_blank' rel='noopener'>“Caste” by Isabel Wil
 kerson</a>  For more information on this meeting please contact KCDW Presi
 dent Jo Fox Burr at <a href='mailto:foxburr@comcast.net' target='_blank' r
 el='noopener'>foxburr@comcast.net</a></p>
DTSTART;TZID=America/Los_Angeles:20230830T130000
DTEND;TZID=America/Los_Angeles:20230830T140000
RRULE:FREQ=MONTHLY;BYDAY=-1WE
SEQUENCE:0
SUMMARY:Kitsap County Democratic Women Book Club
URL:https://26d.org/wp/event/kitsap-county-democratic-women-book-club/
X-COST-TYPE:free
END:VEVENT
BEGIN:VEVENT
UID:ai1ec-36518@26d.org/wp
DTSTAMP:20231102T211535Z
CATEGORIES:
CONTACT:
DESCRIPTION:<p>Located on the Kitsap Peninsula\, we are one of the largest 
 Democratic Women’s Organizations in Washington State.</p>\n<p>We meet on t
 he 4th Wednesday of most months\, gathering at 11:30 am to eat and chat. T
 he meeting starts at 12:30. Usually we have a guest speaker talking on iss
 ues important to all Democrats with Q & A following. Frequently\, these sp
 eakers are local politicians.</p>\n<p>The<wbr />re are no meetings in July
 \, August\, and December. However we do have a Picnic in July and a Holida
 y Party in December. In November\, our meeting is often moved up a week to
  avoid meeting the day before Thanksgiving.</p>\n<p>Co<wbr />ntact Preside
 nt Jo Fox Burr at foxburr@comcast<wbr />.net for more information.</p>
DTSTART;TZID=America/Los_Angeles:20230927T123000
DTEND;TZID=America/Los_Angeles:20230927T143000
EXDATE;TZID=America/Los_Angeles:20230823T123000
LOCATION:The Cloverleaf Sports Bar & Grille
RRULE:FREQ=MONTHLY;BYDAY=4WE
SEQUENCE:0
SUMMARY:Kitsap County Democratic Women Monthly Meeting
URL:https://26d.org/wp/event/kitsap-county-democratic-women-monthly-meeting
 /
X-COST-TYPE:free
END:VEVENT
BEGIN:VEVENT
UID:ai1ec-36531@26d.org/wp
DTSTAMP:20231102T211535Z
CATEGORIES;LANGUAGE=en-US:LD26 General Meetings
CONTACT:26th LD Chair Tom Slyter\; 26thdemocrats@gmail.org
DESCRIPTION:<div><strong>GENERAL MEETING:</strong></div>\n<p><strong>Date: 
  Thursday\, October 5\, 2023 </strong><br />\n<strong>Time:  6:30 p.m.<br 
 />\nLocation: Marvin Williams Center\, Bremerton</strong></p>\n<p>Meeting 
 agenda coming soon…</p>
DTSTART;TZID=America/Los_Angeles:20231005T183000
DTEND;TZID=America/Los_Angeles:20231005T203000
LOCATION:Marvin Williams Recreation Center @ 725 Park Ave\, Bremerton\, WA 
 98337
SEQUENCE:0
SUMMARY:26th Legislative District General Membership Meeting
URL:https://26d.org/wp/event/26th-legislative-district-general-membership-m
 eeting-2/
X-COST-TYPE:free
END:VEVENT
BEGIN:VEVENT
UID:ai1ec-36544@26d.org/wp
DTSTAMP:20231102T211535Z
CATEGORIES;LANGUAGE=en-US:Kitsap County Events
CONTACT:
DESCRIPTION:<p>Kitsap ERACE Coalition meets every first and third Friday fr
 om 4:30 PM – 6:30 PM via Zoom. If you are interested in joining the Coalit
 ion\, please visit the Kitsap ERACE Coalition Facebook page at https://www
 .facebook.com/KitsapERACEcoalition.</p>
DTSTART;TZID=America/Los_Angeles:20231006T163000
DTEND;TZID=America/Los_Angeles:20231006T183000
LOCATION:Zoom- Virtual
RRULE:FREQ=WEEKLY;INTERVAL=2;BYDAY=FR;WKST=SU
SEQUENCE:0
SUMMARY:Kitsap Equity\, Race And Community Engagement Coalition
URL:https://26d.org/wp/event/kitsap-equity-race-and-community-engagement-co
 alition/
X-COST-TYPE:free
END:VEVENT
BEGIN:VEVENT
UID:ai1ec-36542@26d.org/wp
DTSTAMP:20231102T211535Z
CATEGORIES;LANGUAGE=en-US:Kitsap County Events
CONTACT:
DESCRIPTION:<p>Join the Kitsap County Democrats for their monthly meeting i
 n which we provide topics of interest to our local community\, along with 
 reports from our officers and executive board. For more information or que
 stions\, please send email to info@kitsapdemocrats.org.</p>
DTSTART;TZID=America/Los_Angeles:20231016T190000
DTEND;TZID=America/Los_Angeles:20231016T210000
RRULE:FREQ=MONTHLY;BYDAY=3MO
SEQUENCE:0
SUMMARY:Kitsap Democrats Monthly Meeting
URL:https://26d.org/wp/event/kitsap-democrats-monthly-meeting/
X-COST-TYPE:free
END:VEVENT
BEGIN:VEVENT
UID:ai1ec-36540@26d.org/wp
DTSTAMP:20231102T211535Z
CATEGORIES;LANGUAGE=en-US:Kitsap County Events
CONTACT:
DESCRIPTION:<div class='xdj266r x11i5rnm xat24cr x1mh8g0r x1vvkbs x126k92a'
 >\n<div dir='auto'>YDKP is excited to host a candidate meet & greet for So
 uth/Central Kitsap candidates!</div>\n<div dir='auto'></div>\n</div>\n<div
  class='x11i5rnm xat24cr x1mh8g0r x1vvkbs xtlvy1s x126k92a'>\n<div dir='au
 to'><strong>Date/Time:</strong> Sunday\, October 22 from 1-3 PM</div>\n<di
 v dir='auto'><strong>Location:</strong> Dog Days Brewing in Bremerton</div
 >\n<div dir='auto'></div>\n</div>\n<div class='x11i5rnm xat24cr x1mh8g0r x
 1vvkbs xtlvy1s x126k92a'>\n<div dir='auto'>Everyone is welcome to attend\,
  regardless of age. We hope to see you there!</div>\n</div>
DTSTART;TZID=America/Los_Angeles:20231022T130000
DTEND;TZID=America/Los_Angeles:20231022T150000
LOCATION:Dog Days Brewing @ 260 4th St\, Bremerton\, WA 98337
SEQUENCE:0
SUMMARY:South/Central Kitsap Candidate Meet & Greet- Young Democrats of Kit
 sap Peninsula
URL:https://26d.org/wp/event/south-central-kitsap-candidate-meet-greet-youn
 g-democrats-of-kitsap-peninsula/
X-COST-TYPE:free
END:VEVENT
BEGIN:VEVENT
UID:ai1ec-36543@26d.org/wp
DTSTAMP:20231102T211535Z
CATEGORIES;LANGUAGE=en-US:Kitsap County Events
CONTACT:
DESCRIPTION:<p><span class='event-description'>Social time 6:30 pm\, Busine
 ss Meeting starts at 7:00 pm. For more information\, visit kitsap23rd.com 
 or send email to chair@kitsap23r<wbr />d.com</span></p>
DTSTART;TZID=America/Los_Angeles:20231026T190000
DTEND;TZID=America/Los_Angeles:20231026T210000
RRULE:FREQ=MONTHLY;BYDAY=4TH
SEQUENCE:0
SUMMARY:23rd LD Democrats Monthly Meeting
URL:https://26d.org/wp/event/23rd-ld-democrats-monthly-meeting/
X-COST-TYPE:free
END:VEVENT
BEGIN:VEVENT
UID:ai1ec-36532@26d.org/wp
DTSTAMP:20231102T211535Z
CATEGORIES;LANGUAGE=en-US:Pierce County Events
CONTACT:
DESCRIPTION:<div id='comp-lm2lmc52' class='KcpHeO tz5f0K comp-lm2lmc52 wixu
 i-rich-text' data-testid='richTextElement'>\n<h2 class='font_2 wixui-rich-
 text__text'><span class='wixui-rich-text__text'>Hosted by the Pierce Count
 y Democrats- Featuring Event Speaker and Special Guest Governor Jay Inslee
 </span></h2>\n</div>\n<div id='comp-lm2lmc5c' class='KcpHeO tz5f0K comp-lm
 2lmc5c wixui-rich-text' data-testid='richTextElement'>\n<p class='font_8 w
 ixui-rich-text__text'><span class='wixui-rich-text__text'>Would you like t
 o volunteer for our event or do you have a special item for our live or si
 lent auction? Email us at: <a class='wixui-rich-text__text' href='mailto:p
 cdemsinfo@gmail.com' target='_self' rel='noopener'>pcdemsinfo@gmail.com</a
 > and we will be in touch.</span></p>\n<p class='font_8 wixui-rich-text__t
 ext'><span class='wixui-rich-text__text'>Check back here for updates on th
 e event. Thank you!!</span></p>\n</div>\n<p>Tickets: <a class='ai1ec-ticke
 t-url-exported' href='https://www.piercecountydems.com/general-4'>https://
 www.piercecountydems.com/general-4</a>.</p>
DTSTART;TZID=America/Los_Angeles:20231027T180000
LOCATION:Environmental Services Center @ 9850 64th St W\, University Place\
 , WA 98467
SEQUENCE:0
SUMMARY:Keep Pierce Blue Fundraiser
URL:https://26d.org/wp/event/keep-pierce-blue-fundraiser/
X-COST-TYPE:external
X-TAGS;LANGUAGE=en-US:Fundraiser\,Pierce
X-TICKETS-URL:https://www.piercecountydems.com/general-4
X-INSTANT-EVENT:1
END:VEVENT
END:VCALENDAR
